BEGIN:VCALENDAR
VERSION:2.0
PRODID:-//Stephen Tobolowsky - ECPv6.15.20//NONSGML v1.0//EN
CALSCALE:GREGORIAN
METHOD:PUBLISH
X-ORIGINAL-URL:https://stephentobolowsky.com
X-WR-CALDESC:Events for Stephen Tobolowsky
REFRESH-INTERVAL;VALUE=DURATION:PT1H
X-Robots-Tag:noindex
X-PUBLISHED-TTL:PT1H
BEGIN:VTIMEZONE
TZID:America/Los_Angeles
BEGIN:DAYLIGHT
TZOFFSETFROM:-0800
TZOFFSETTO:-0700
TZNAME:PDT
DTSTART:20170312T100000
END:DAYLIGHT
BEGIN:STANDARD
TZOFFSETFROM:-0700
TZOFFSETTO:-0800
TZNAME:PST
DTSTART:20171105T090000
END:STANDARD
BEGIN:DAYLIGHT
TZOFFSETFROM:-0800
TZOFFSETTO:-0700
TZNAME:PDT
DTSTART:20180311T100000
END:DAYLIGHT
BEGIN:STANDARD
TZOFFSETFROM:-0700
TZOFFSETTO:-0800
TZNAME:PST
DTSTART:20181104T090000
END:STANDARD
BEGIN:DAYLIGHT
TZOFFSETFROM:-0800
TZOFFSETTO:-0700
TZNAME:PDT
DTSTART:20190310T100000
END:DAYLIGHT
BEGIN:STANDARD
TZOFFSETFROM:-0700
TZOFFSETTO:-0800
TZNAME:PST
DTSTART:20191103T090000
END:STANDARD
END:VTIMEZONE
BEGIN:VTIMEZONE
TZID:America/New_York
BEGIN:DAYLIGHT
TZOFFSETFROM:-0500
TZOFFSETTO:-0400
TZNAME:EDT
DTSTART:20170312T070000
END:DAYLIGHT
BEGIN:STANDARD
TZOFFSETFROM:-0400
TZOFFSETTO:-0500
TZNAME:EST
DTSTART:20171105T060000
END:STANDARD
BEGIN:DAYLIGHT
TZOFFSETFROM:-0500
TZOFFSETTO:-0400
TZNAME:EDT
DTSTART:20180311T070000
END:DAYLIGHT
BEGIN:STANDARD
TZOFFSETFROM:-0400
TZOFFSETTO:-0500
TZNAME:EST
DTSTART:20181104T060000
END:STANDARD
BEGIN:DAYLIGHT
TZOFFSETFROM:-0500
TZOFFSETTO:-0400
TZNAME:EDT
DTSTART:20190310T070000
END:DAYLIGHT
BEGIN:STANDARD
TZOFFSETFROM:-0400
TZOFFSETTO:-0500
TZNAME:EST
DTSTART:20191103T060000
END:STANDARD
END:VTIMEZONE
BEGIN:VEVENT
DTSTART;TZID=America/Los_Angeles:20180107T160000
DTEND;TZID=America/Los_Angeles:20180107T180000
DTSTAMP:20260419T201226
CREATED:20170925T165829Z
LAST-MODIFIED:20170925T170102Z
UID:1682-1515340800-1515348000@stephentobolowsky.com
SUMMARY:Mercer Island\, WA
DESCRIPTION:Stroum Jewish Community Center\nStories from “My Adventures With God\,” Q&A and Book Signing.\n$20-35 (bundled tickets with book copy and talk-only tickets available)
URL:https://stephentobolowsky.com/event/mercer-island-wa/
LOCATION:Stroum Jewish Community Center\, 3801 E. Mercer Way\, Mercer Island\, WA\, 98040
END:VEVENT
BEGIN:VEVENT
DTSTART;TZID=America/New_York:20180113T180000
DTEND;TZID=America/New_York:20180113T210000
DTSTAMP:20260419T201226
CREATED:20171221T153052Z
LAST-MODIFIED:20171221T153352Z
UID:1776-1515866400-1515877200@stephentobolowsky.com
SUMMARY:Springer Opera House
DESCRIPTION:“State Theatre Gala” to celebrate Paul Pierce’s 30th anniversary with the Springer Opera House in Columbus\, GA. The event will be a major fundraiser for the theatre and will feature a performance by “the King of Hollywood character actors\, “ Stephen Tobolowsky. \nOther related events: A book signing for “My Adventures with God” at the Springer Saloon on Friday\, January 12 from 5:30 – 7:00 p.m. Light refreshments will be available\, as well as a cash bar. On Saturday morning\, Tobolowsky and his wife\,  actress Ann Hearn\, will host a symposium for CSU Theatre majors and Springer Theatre Academy students. \nGeneral public ticket sales to the State Theatre Gala are available through the Springer Box Office located at 103 10th Street in Columbus. Tickets can also be purchased by calling 706-327-3688 or online here. \nTickets – $100 includes performance\, gala gourmet reception and open bar\nGolden Circle Tickets – $150 includes performance\, gala gourmet reception and open bar\, as well as a post show VIP meet and greet reception.
URL:https://stephentobolowsky.com/event/springer-opera-house/
LOCATION:Springer Opera House\, 103 Tenth Street\, Columbus\, GA\, 31901\, United States
END:VEVENT
END:VCALENDAR