BEGIN:VCALENDAR
VERSION:2.0
PRODID:-//Stephen Tobolowsky - ECPv6.15.20//NONSGML v1.0//EN
CALSCALE:GREGORIAN
METHOD:PUBLISH
X-WR-CALNAME:Stephen Tobolowsky
X-ORIGINAL-URL:https://stephentobolowsky.com
X-WR-CALDESC:Events for Stephen Tobolowsky
REFRESH-INTERVAL;VALUE=DURATION:PT1H
X-Robots-Tag:noindex
X-PUBLISHED-TTL:PT1H
BEGIN:VTIMEZONE
TZID:America/Los_Angeles
BEGIN:DAYLIGHT
TZOFFSETFROM:-0800
TZOFFSETTO:-0700
TZNAME:PDT
DTSTART:20160313T100000
END:DAYLIGHT
BEGIN:STANDARD
TZOFFSETFROM:-0700
TZOFFSETTO:-0800
TZNAME:PST
DTSTART:20161106T090000
END:STANDARD
BEGIN:DAYLIGHT
TZOFFSETFROM:-0800
TZOFFSETTO:-0700
TZNAME:PDT
DTSTART:20170312T100000
END:DAYLIGHT
BEGIN:STANDARD
TZOFFSETFROM:-0700
TZOFFSETTO:-0800
TZNAME:PST
DTSTART:20171105T090000
END:STANDARD
BEGIN:DAYLIGHT
TZOFFSETFROM:-0800
TZOFFSETTO:-0700
TZNAME:PDT
DTSTART:20180311T100000
END:DAYLIGHT
BEGIN:STANDARD
TZOFFSETFROM:-0700
TZOFFSETTO:-0800
TZNAME:PST
DTSTART:20181104T090000
END:STANDARD
END:VTIMEZONE
BEGIN:VEVENT
DTSTART;TZID=America/Los_Angeles:20171104T193000
DTEND;TZID=America/Los_Angeles:20171104T213000
DTSTAMP:20260419T232204
CREATED:20170922T221847Z
LAST-MODIFIED:20171007T214446Z
UID:1632-1509823800-1509831000@stephentobolowsky.com
SUMMARY:Pomona\, CA
DESCRIPTION:Dessert Reception\, Stories from “My Adventures With God\,” Q&A and Book Signing \nTemple Beth Israel of Pomona.  Details here.
URL:https://stephentobolowsky.com/event/pomona-ca/
LOCATION:Temple Beth Israel\, 3033 North Towne Ave\, Pomona\, CA\, 91767
END:VEVENT
BEGIN:VEVENT
DTSTART;TZID=America/Los_Angeles:20171106T190000
DTEND;TZID=America/Los_Angeles:20171106T210000
DTSTAMP:20260419T232204
CREATED:20170922T222431Z
LAST-MODIFIED:20170922T222526Z
UID:1634-1509994800-1510002000@stephentobolowsky.com
SUMMARY:Irvine\, CA
DESCRIPTION:Stories from “My Adventures With God\,”Q&A and Book Signing \nOrange County Jewish Arts Festival\, Irvine\, CA\nMore info here.
URL:https://stephentobolowsky.com/event/irvine-ca/
LOCATION:Merage Jewish Community Center\, One Federation Way\, Irvine\, CA\, 92603
END:VEVENT
BEGIN:VEVENT
DTSTART;TZID=America/Los_Angeles:20171112T100000
DTEND;TZID=America/Los_Angeles:20171112T120000
DTSTAMP:20260419T232204
CREATED:20170922T222723Z
LAST-MODIFIED:20171007T214719Z
UID:1638-1510480800-1510488000@stephentobolowsky.com
SUMMARY:Cherry Hill\, NJ
DESCRIPTION:Stories from “My Adventures With God\,” Q&A and Book Signing \nLahn Social Hall\nKatz JCC\n1301 Springdale Road Cherry Hill\, New Jersey 08003\nPhone: (856) 424-4444 \nTickets here. \nFor Online registration help please call 856-424-4444
URL:https://stephentobolowsky.com/event/cherry-hill-nj/
LOCATION:Katz JCC\, 1301 Springdale Road\, Cherry Hill\, NJ\, 08003
END:VEVENT
BEGIN:VEVENT
DTSTART;TZID=America/Los_Angeles:20171114T200000
DTEND;TZID=America/Los_Angeles:20171114T220000
DTSTAMP:20260419T232204
CREATED:20170924T151620Z
LAST-MODIFIED:20171112T182847Z
UID:1658-1510689600-1510696800@stephentobolowsky.com
SUMMARY:The Bell House\, Brooklyn\, NY
DESCRIPTION:Stories\, Q&A\, and Book Signing.
URL:https://stephentobolowsky.com/event/the-bell-house-brooklyn-ny/
LOCATION:The Bell House\, 149 7th Street\, Brooklyn\, NY\, 11215
END:VEVENT
BEGIN:VEVENT
DTSTART;TZID=America/Los_Angeles:20171115T193000
DTEND;TZID=America/Los_Angeles:20171115T213000
DTSTAMP:20260419T232204
CREATED:20170924T151245Z
LAST-MODIFIED:20171007T220745Z
UID:1656-1510774200-1510781400@stephentobolowsky.com
SUMMARY:Bangor\, Maine
DESCRIPTION:Ticket information and details see — \nhttps://www.facebook.com/events/128440407806356/?ti=as \nTickets are $30 and a copy of the book is included in the cost of admission. Proceeds will benefit Congregation Beth El Bangor. Tickets on sale now at The Briar Patch\, 27 Central Street in Bangor!
URL:https://stephentobolowsky.com/event/bangor-maine/
LOCATION:Brewer Performing Arts Center\, 92 Pendleton St\, Brewer\, MAINE\, 04412
END:VEVENT
BEGIN:VEVENT
DTSTART;TZID=America/Los_Angeles:20171116T190000
DTEND;TZID=America/Los_Angeles:20171116T210000
DTSTAMP:20260419T232204
CREATED:20170924T152036Z
LAST-MODIFIED:20171007T221851Z
UID:1661-1510858800-1510866000@stephentobolowsky.com
SUMMARY:Portland\, Maine
DESCRIPTION:Stories from “My Adventures With God\,” Q&A and Book Signing. \nTickets registration here.
URL:https://stephentobolowsky.com/event/portland-maine/
LOCATION:Sam L. Cohen Community Hall at the JCA\, 1342 Congress Street\, Portland\, ME\, 04102
END:VEVENT
BEGIN:VEVENT
DTSTART;TZID=America/Los_Angeles:20171118T200000
DTEND;TZID=America/Los_Angeles:20171118T220000
DTSTAMP:20260419T232204
CREATED:20170924T152520Z
LAST-MODIFIED:20170924T152800Z
UID:1663-1511035200-1511042400@stephentobolowsky.com
SUMMARY:Hartford\, CT: Mandell JCC Jewish Book Festival
DESCRIPTION:Stories from “My Adventures With God\,” Q&A and Book Signing
URL:https://stephentobolowsky.com/event/hartford-ct-mandell-jcc-jewish-book-festival/
LOCATION:Mandell JCC\, 335 Bloomfield Ave\, Hartford\, CT\, 06117
END:VEVENT
BEGIN:VEVENT
DTSTART;TZID=America/Los_Angeles:20171119T123000
DTEND;TZID=America/Los_Angeles:20171119T143000
DTSTAMP:20260419T232204
CREATED:20170924T152722Z
LAST-MODIFIED:20171007T224012Z
UID:1666-1511094600-1511101800@stephentobolowsky.com
SUMMARY:Norwalk\, CT
DESCRIPTION:Light lunch and stories from “My Adventures With God\,” Q&A and Book Signing. \nTemple Shalom\, Norwalk\, CT \nPlease contact for further information: 203.866.0148
URL:https://stephentobolowsky.com/event/norwalk-ct/
LOCATION:Temple Shalom\, 259 Richards Avenue\, Norwalk\, CT\, 06850
END:VEVENT
BEGIN:VEVENT
DTSTART;TZID=America/Los_Angeles:20171130T200000
DTEND;TZID=America/Los_Angeles:20171130T220000
DTSTAMP:20260419T232204
CREATED:20170924T153058Z
LAST-MODIFIED:20170924T153645Z
UID:1668-1512072000-1512079200@stephentobolowsky.com
SUMMARY:Vancouver\, British Columbia\, Canada: JCC Jewish Book Festival
DESCRIPTION:Stories from “My Adventures With God\,” Q&A and Book Signing. \nClosing night event of the Vancouver JCC Jewish Book Festial\nAdmission is charged for most events\, many events are free. Season passes and tickets are available at the JCC or online during the months of October and November.
URL:https://stephentobolowsky.com/event/vancouver-british-columbia-canada-jcc-jewish-book-festival/
END:VEVENT
END:VCALENDAR