BEGIN:VCALENDAR
VERSION:2.0
PRODID:-//Stephen Tobolowsky - ECPv6.15.20//NONSGML v1.0//EN
CALSCALE:GREGORIAN
METHOD:PUBLISH
X-ORIGINAL-URL:https://stephentobolowsky.com
X-WR-CALDESC:Events for Stephen Tobolowsky
REFRESH-INTERVAL;VALUE=DURATION:PT1H
X-Robots-Tag:noindex
X-PUBLISHED-TTL:PT1H
BEGIN:VTIMEZONE
TZID:America/Los_Angeles
BEGIN:DAYLIGHT
TZOFFSETFROM:-0800
TZOFFSETTO:-0700
TZNAME:PDT
DTSTART:20160313T100000
END:DAYLIGHT
BEGIN:STANDARD
TZOFFSETFROM:-0700
TZOFFSETTO:-0800
TZNAME:PST
DTSTART:20161106T090000
END:STANDARD
BEGIN:DAYLIGHT
TZOFFSETFROM:-0800
TZOFFSETTO:-0700
TZNAME:PDT
DTSTART:20170312T100000
END:DAYLIGHT
BEGIN:STANDARD
TZOFFSETFROM:-0700
TZOFFSETTO:-0800
TZNAME:PST
DTSTART:20171105T090000
END:STANDARD
BEGIN:DAYLIGHT
TZOFFSETFROM:-0800
TZOFFSETTO:-0700
TZNAME:PDT
DTSTART:20180311T100000
END:DAYLIGHT
BEGIN:STANDARD
TZOFFSETFROM:-0700
TZOFFSETTO:-0800
TZNAME:PST
DTSTART:20181104T090000
END:STANDARD
END:VTIMEZONE
BEGIN:VTIMEZONE
TZID:America/North_Dakota/Center
BEGIN:DAYLIGHT
TZOFFSETFROM:-0600
TZOFFSETTO:-0500
TZNAME:CDT
DTSTART:20160313T080000
END:DAYLIGHT
BEGIN:STANDARD
TZOFFSETFROM:-0500
TZOFFSETTO:-0600
TZNAME:CST
DTSTART:20161106T070000
END:STANDARD
BEGIN:DAYLIGHT
TZOFFSETFROM:-0600
TZOFFSETTO:-0500
TZNAME:CDT
DTSTART:20170312T080000
END:DAYLIGHT
BEGIN:STANDARD
TZOFFSETFROM:-0500
TZOFFSETTO:-0600
TZNAME:CST
DTSTART:20171105T070000
END:STANDARD
BEGIN:DAYLIGHT
TZOFFSETFROM:-0600
TZOFFSETTO:-0500
TZNAME:CDT
DTSTART:20180311T080000
END:DAYLIGHT
BEGIN:STANDARD
TZOFFSETFROM:-0500
TZOFFSETTO:-0600
TZNAME:CST
DTSTART:20181104T070000
END:STANDARD
END:VTIMEZONE
BEGIN:VEVENT
DTSTART;TZID=America/Los_Angeles:20170918T193000
DTEND;TZID=America/Los_Angeles:20170918T213000
DTSTAMP:20260420T041810
CREATED:20170917T191919Z
LAST-MODIFIED:20170917T193927Z
UID:1577-1505763000-1505770200@stephentobolowsky.com
SUMMARY:Fargo\, North Dakota
DESCRIPTION:Please see here for information\, tickets\, etc. \nStories from My Adventures With God\, Q&A\, book signing.
URL:https://stephentobolowsky.com/event/fargo-north-dakota/
LOCATION:The Stage at Island Park\, 333 4th St S\, Fargo\, North Dakota\, 58103
END:VEVENT
BEGIN:VEVENT
DTSTART;TZID=America/Los_Angeles:20170919T193000
DTEND;TZID=America/Los_Angeles:20170919T220000
DTSTAMP:20260420T041810
CREATED:20170917T192319Z
LAST-MODIFIED:20170917T193758Z
UID:1581-1505849400-1505858400@stephentobolowsky.com
SUMMARY:University of Mary Theatre\, Bismarck\, North Dakota
DESCRIPTION:University of Mary Theatre\, Greg Butler Hall \nStories from My Adventures With God\, Q&A and Book signing. \nFree for students\, $8 general admission.
URL:https://stephentobolowsky.com/event/1581/
LOCATION:Greg Butler Hall\, Bismarck\, ND
END:VEVENT
BEGIN:VEVENT
DTSTART;TZID=America/North_Dakota/Center:20170921T200000
DTEND;TZID=America/North_Dakota/Center:20170921T220000
DTSTAMP:20260420T041810
CREATED:20170917T192844Z
LAST-MODIFIED:20170917T194057Z
UID:1583-1506024000-1506031200@stephentobolowsky.com
SUMMARY:University of Jamestown\, Jamestown\, North Dakota
DESCRIPTION:Reiland Fine Arts Center \nStories from My Adventures With God\, Q & A\, book signing. \n$10 for general public.\nFree for UJ students & employees.\nAll ticketing will be done at the door.
URL:https://stephentobolowsky.com/event/university-of-jamestown-jamestown-north-dakota/
LOCATION:Reiland Fine Arts Center\, 6000 College Ln\, Jamestown\, ND\, 58405\, United States
END:VEVENT
BEGIN:VEVENT
DTSTART;TZID=America/Los_Angeles:20170922T190000
DTEND;TZID=America/Los_Angeles:20170922T193000
DTSTAMP:20260420T041810
CREATED:20170917T194423Z
LAST-MODIFIED:20170917T195029Z
UID:1592-1506106800-1506108600@stephentobolowsky.com
SUMMARY:Special Guest at South Dakota Film Festival\, Aberdeen\, South Dakota
DESCRIPTION:Stephen is thrilled to be a special guest at the South Dakota Film Festival September 22-24! \nPlease check out their events: http://southdakotafilmfest.org/about/ \nAND Stephen’s producer and partner from The Tobolowsky Files has a short film\, Doctor B at the festival! \nFRIDAY AFTERNOON September 22\nSession 2  2 PM – 4:30 PM \nThe Witching Hour  (13 min)  SN\nRocket  (29 min)  SN\nNew Neighbors  (10 min)  SN\nBorn Again  (7 min)  SN  ADULT \nBreak   \nThe Sub  (17 min)  SN  ADULT\nDoctor B  (9 min)  SD\nHunter  (4 min)  SN\nIsis Hair Salon  (5 min)  SD\nThe Privates  (13 min)  SN\nKojo:  A Short Documentary  (14 min)  SD \n 
URL:https://stephentobolowsky.com/event/special-guest-at-south-dakota-film-festival-aberdeen-south-dakota/
END:VEVENT
BEGIN:VEVENT
DTSTART;TZID=America/Los_Angeles:20170925T193000
DTEND;TZID=America/Los_Angeles:20170925T210000
DTSTAMP:20260420T041810
CREATED:20170919T162126Z
LAST-MODIFIED:20170919T162405Z
UID:1603-1506367800-1506373200@stephentobolowsky.com
SUMMARY:An Evening in Pierredise with Stephen Tobolowsky
DESCRIPTION:Hosted by Pierre Players Community Theatre \nStories\, Q&A\, and Book Signing.
URL:https://stephentobolowsky.com/event/an-evening-in-pierredise-with-stephen-tobolowsky/
LOCATION:Pierre Players Community Theatre\, 109 S Pierre St\, Pierre\, SD\, 57501
END:VEVENT
BEGIN:VEVENT
DTSTART;TZID=America/Los_Angeles:20170926T190000
DTEND;TZID=America/Los_Angeles:20170926T190000
DTSTAMP:20260420T041810
CREATED:20170917T195900Z
LAST-MODIFIED:20170917T195956Z
UID:1596-1506452400-1506452400@stephentobolowsky.com
SUMMARY:Dahl Arts Center\, Rapid City\, South Dakota
DESCRIPTION:An Evening with Stephen Tobolowsky — \nStories from My Adventures with God\, Q&A\, book signing. \nTickets here. \n 
URL:https://stephentobolowsky.com/event/dahl-arts-center-rapid-city-south-dakota/
LOCATION:Dahl Arts Center\, 713 7th Street\, Rapid City\, South Dakota\, 57701
END:VEVENT
END:VCALENDAR