BEGIN:VCALENDAR
VERSION:2.0
PRODID:-//Stephen Tobolowsky - ECPv6.15.20//NONSGML v1.0//EN
CALSCALE:GREGORIAN
METHOD:PUBLISH
X-WR-CALNAME:Stephen Tobolowsky
X-ORIGINAL-URL:https://stephentobolowsky.com
X-WR-CALDESC:Events for Stephen Tobolowsky
REFRESH-INTERVAL;VALUE=DURATION:PT1H
X-Robots-Tag:noindex
X-PUBLISHED-TTL:PT1H
BEGIN:VTIMEZONE
TZID:America/Los_Angeles
BEGIN:DAYLIGHT
TZOFFSETFROM:-0800
TZOFFSETTO:-0700
TZNAME:PDT
DTSTART:20160313T100000
END:DAYLIGHT
BEGIN:STANDARD
TZOFFSETFROM:-0700
TZOFFSETTO:-0800
TZNAME:PST
DTSTART:20161106T090000
END:STANDARD
BEGIN:DAYLIGHT
TZOFFSETFROM:-0800
TZOFFSETTO:-0700
TZNAME:PDT
DTSTART:20170312T100000
END:DAYLIGHT
BEGIN:STANDARD
TZOFFSETFROM:-0700
TZOFFSETTO:-0800
TZNAME:PST
DTSTART:20171105T090000
END:STANDARD
BEGIN:DAYLIGHT
TZOFFSETFROM:-0800
TZOFFSETTO:-0700
TZNAME:PDT
DTSTART:20180311T100000
END:DAYLIGHT
BEGIN:STANDARD
TZOFFSETFROM:-0700
TZOFFSETTO:-0800
TZNAME:PST
DTSTART:20181104T090000
END:STANDARD
END:VTIMEZONE
BEGIN:VEVENT
DTSTART;TZID=America/Los_Angeles:20170418T193000
DTEND;TZID=America/Los_Angeles:20170418T213000
DTSTAMP:20260420T005233
CREATED:20170307T011435Z
LAST-MODIFIED:20170323T234351Z
UID:1221-1492543800-1492551000@stephentobolowsky.com
SUMMARY:Dallas Arts & Letters - "My Adventures With God" book signing
DESCRIPTION:Location: Horchow Auditorium\, 1717 N. Harwood St. Dallas\, TX 75201 \nStephen will discuss his book\, Q&A session\, and book signings.
URL:https://stephentobolowsky.com/event/dallas-arts-letters/
LOCATION:Horchow Auditorium\, 1717 N. Harwood St.\, Dallas\, TX\, 75201\, United States
END:VEVENT
BEGIN:VEVENT
DTSTART;VALUE=DATE:20170413
DTEND;VALUE=DATE:20170416
DTSTAMP:20260420T005233
CREATED:20170323T202051Z
LAST-MODIFIED:20170323T202251Z
UID:1321-1492041600-1492300799@stephentobolowsky.com
SUMMARY:EG Conference Presenter - Carmel-by-the-Sea\, CA
DESCRIPTION:EG is the best creative conference in the world — an intimate annual gathering and a touchstone for leading innovators in every imaginable field. Inventors and educators\, artists and designers\, thinkers and writers\, scientists and engineers\, musicians and magicians\, young and old\, the famous and the not yet discovered. There is no other gathering like it.
URL:https://stephentobolowsky.com/event/eg-conference-presenter-carmel-by-the-sea-ca/
LOCATION:Sunset Center\, San Carlos St\, Carmel-by-the-Sea\, CA\, 93921
END:VEVENT
END:VCALENDAR