BEGIN:VCALENDAR
VERSION:2.0
PRODID:-//Stephen Tobolowsky - ECPv6.15.20//NONSGML v1.0//EN
CALSCALE:GREGORIAN
METHOD:PUBLISH
X-ORIGINAL-URL:https://stephentobolowsky.com
X-WR-CALDESC:Events for Stephen Tobolowsky
REFRESH-INTERVAL;VALUE=DURATION:PT1H
X-Robots-Tag:noindex
X-PUBLISHED-TTL:PT1H
BEGIN:VTIMEZONE
TZID:America/Los_Angeles
BEGIN:DAYLIGHT
TZOFFSETFROM:-0800
TZOFFSETTO:-0700
TZNAME:PDT
DTSTART:20160313T100000
END:DAYLIGHT
BEGIN:STANDARD
TZOFFSETFROM:-0700
TZOFFSETTO:-0800
TZNAME:PST
DTSTART:20161106T090000
END:STANDARD
BEGIN:DAYLIGHT
TZOFFSETFROM:-0800
TZOFFSETTO:-0700
TZNAME:PDT
DTSTART:20170312T100000
END:DAYLIGHT
BEGIN:STANDARD
TZOFFSETFROM:-0700
TZOFFSETTO:-0800
TZNAME:PST
DTSTART:20171105T090000
END:STANDARD
BEGIN:DAYLIGHT
TZOFFSETFROM:-0800
TZOFFSETTO:-0700
TZNAME:PDT
DTSTART:20180311T100000
END:DAYLIGHT
BEGIN:STANDARD
TZOFFSETFROM:-0700
TZOFFSETTO:-0800
TZNAME:PST
DTSTART:20181104T090000
END:STANDARD
BEGIN:DAYLIGHT
TZOFFSETFROM:-0800
TZOFFSETTO:-0700
TZNAME:PDT
DTSTART:20190310T100000
END:DAYLIGHT
BEGIN:STANDARD
TZOFFSETFROM:-0700
TZOFFSETTO:-0800
TZNAME:PST
DTSTART:20191103T090000
END:STANDARD
BEGIN:DAYLIGHT
TZOFFSETFROM:-0800
TZOFFSETTO:-0700
TZNAME:PDT
DTSTART:20200308T100000
END:DAYLIGHT
BEGIN:STANDARD
TZOFFSETFROM:-0700
TZOFFSETTO:-0800
TZNAME:PST
DTSTART:20201101T090000
END:STANDARD
END:VTIMEZONE
BEGIN:VTIMEZONE
TZID:America/New_York
BEGIN:DAYLIGHT
TZOFFSETFROM:-0500
TZOFFSETTO:-0400
TZNAME:EDT
DTSTART:20170312T070000
END:DAYLIGHT
BEGIN:STANDARD
TZOFFSETFROM:-0400
TZOFFSETTO:-0500
TZNAME:EST
DTSTART:20171105T060000
END:STANDARD
BEGIN:DAYLIGHT
TZOFFSETFROM:-0500
TZOFFSETTO:-0400
TZNAME:EDT
DTSTART:20180311T070000
END:DAYLIGHT
BEGIN:STANDARD
TZOFFSETFROM:-0400
TZOFFSETTO:-0500
TZNAME:EST
DTSTART:20181104T060000
END:STANDARD
BEGIN:DAYLIGHT
TZOFFSETFROM:-0500
TZOFFSETTO:-0400
TZNAME:EDT
DTSTART:20190310T070000
END:DAYLIGHT
BEGIN:STANDARD
TZOFFSETFROM:-0400
TZOFFSETTO:-0500
TZNAME:EST
DTSTART:20191103T060000
END:STANDARD
END:VTIMEZONE
BEGIN:VEVENT
DTSTART;TZID=America/Los_Angeles:20171205T180000
DTEND;TZID=America/Los_Angeles:20171205T200000
DTSTAMP:20260420T010418
CREATED:20170925T162320Z
LAST-MODIFIED:20170925T162320Z
UID:1674-1512496800-1512504000@stephentobolowsky.com
SUMMARY:Ft. Myers\, FL
DESCRIPTION:Stories from “My Adventures With God\,” Q&A and Book Signing. \nDetails to come.
URL:https://stephentobolowsky.com/event/ft-myers-fl/
END:VEVENT
BEGIN:VEVENT
DTSTART;TZID=America/Los_Angeles:20171206T113000
DTEND;TZID=America/Los_Angeles:20171206T140000
DTSTAMP:20260420T010418
CREATED:20170925T163816Z
LAST-MODIFIED:20170925T163816Z
UID:1678-1512559800-1512568800@stephentobolowsky.com
SUMMARY:Naples\, FL
DESCRIPTION:Collier County Jewish Book Festival \nStories from “My Adventures With God\,” Q&A and Book Signing.\nLunch and Copy of book included with ticket.  Please see website here for details\, and scroll down to the Tobolowsky section! Or see link below.
URL:https://stephentobolowsky.com/event/naples-fl/
LOCATION:Hilton Naples\, 5111 Tamiami Trail N\, Naples\, FL
END:VEVENT
BEGIN:VEVENT
DTSTART;TZID=America/Los_Angeles:20171210T170000
DTEND;TZID=America/Los_Angeles:20171210T190000
DTSTAMP:20260420T010418
CREATED:20171119T225538Z
LAST-MODIFIED:20171119T225804Z
UID:1743-1512925200-1512932400@stephentobolowsky.com
SUMMARY:Special Fundraiser for The Road Theatre Company
DESCRIPTION:Stephen reads his story “A Good Day at Auschwitz” from his book My Adventures With God with theatrical legend Alan Mandell.  This is the first time this story has ever been presented Live\, and the first time ever with another actor. \nThis event promises to be a one-of-a-kind evening. \nWine & refreshments at 5:00 pm\nPerformance at 5:30 pm\nBook signing immediately following. \nAll proceeds benefit the Road Theatre Company. \nSee below for tickets and location information.
URL:https://stephentobolowsky.com/event/special-fundraiser-for-the-road-theatre-company/
LOCATION:The Road Theatre Company\, at NoHo Senior Arts Colony -- 10747 Magnolia Blvd\, North Hollywood\, CA\, 91601
END:VEVENT
BEGIN:VEVENT
DTSTART;TZID=America/Los_Angeles:20171214T183000
DTEND;TZID=America/Los_Angeles:20171214T203000
DTSTAMP:20260420T010418
CREATED:20171121T035008Z
LAST-MODIFIED:20171121T035121Z
UID:1750-1513276200-1513283400@stephentobolowsky.com
SUMMARY:Benefit for Vashon High School\, WA
DESCRIPTION:Vashon High School Theater\nThursday\, December 14\nDoors: 6:00pm\nTickets: $40 ($25 Students/Seniors)   \nSpend the evening being highly entertained by the stories and anecdotes of Stephen Tobolowsky. \nThis is the third visit for Stephen and he has taken Vashon to his heart.  This benefit performance will be sure to sell out (as it has in the past).  In the last year\, his popularity has surged again with two new TV roles\, as well as his popular podcast and his new book\, Adventures with God. \nTickets are available  online from Brown Paper Tickets\, or from Vashon Book Shop.   \nThe school holiday starts the next day\, so this is a fantastic way to start the break – so be sure to get your tickets early as this event is sure to sell out fast! \nAll proceeds go to support  Safe Grad Night\, and more information is available here: http://safegradnight.org/events/
URL:https://stephentobolowsky.com/event/benefit-for-vashon-high-school-wa/
LOCATION:Vashon High School Theatre\, 9600 SW 204th Street\, Vashon\, WA\, 98070
END:VEVENT
BEGIN:VEVENT
DTSTART;TZID=America/Los_Angeles:20180107T160000
DTEND;TZID=America/Los_Angeles:20180107T180000
DTSTAMP:20260420T010418
CREATED:20170925T165829Z
LAST-MODIFIED:20170925T170102Z
UID:1682-1515340800-1515348000@stephentobolowsky.com
SUMMARY:Mercer Island\, WA
DESCRIPTION:Stroum Jewish Community Center\nStories from “My Adventures With God\,” Q&A and Book Signing.\n$20-35 (bundled tickets with book copy and talk-only tickets available)
URL:https://stephentobolowsky.com/event/mercer-island-wa/
LOCATION:Stroum Jewish Community Center\, 3801 E. Mercer Way\, Mercer Island\, WA\, 98040
END:VEVENT
BEGIN:VEVENT
DTSTART;TZID=America/New_York:20180113T180000
DTEND;TZID=America/New_York:20180113T210000
DTSTAMP:20260420T010418
CREATED:20171221T153052Z
LAST-MODIFIED:20171221T153352Z
UID:1776-1515866400-1515877200@stephentobolowsky.com
SUMMARY:Springer Opera House
DESCRIPTION:“State Theatre Gala” to celebrate Paul Pierce’s 30th anniversary with the Springer Opera House in Columbus\, GA. The event will be a major fundraiser for the theatre and will feature a performance by “the King of Hollywood character actors\, “ Stephen Tobolowsky. \nOther related events: A book signing for “My Adventures with God” at the Springer Saloon on Friday\, January 12 from 5:30 – 7:00 p.m. Light refreshments will be available\, as well as a cash bar. On Saturday morning\, Tobolowsky and his wife\,  actress Ann Hearn\, will host a symposium for CSU Theatre majors and Springer Theatre Academy students. \nGeneral public ticket sales to the State Theatre Gala are available through the Springer Box Office located at 103 10th Street in Columbus. Tickets can also be purchased by calling 706-327-3688 or online here. \nTickets – $100 includes performance\, gala gourmet reception and open bar\nGolden Circle Tickets – $150 includes performance\, gala gourmet reception and open bar\, as well as a post show VIP meet and greet reception.
URL:https://stephentobolowsky.com/event/springer-opera-house/
LOCATION:Springer Opera House\, 103 Tenth Street\, Columbus\, GA\, 31901\, United States
END:VEVENT
BEGIN:VEVENT
DTSTART;TZID=America/New_York:20180311T143000
DTEND;TZID=America/New_York:20180311T163000
DTSTAMP:20260420T010418
CREATED:20180311T191758Z
LAST-MODIFIED:20180311T191946Z
UID:1788-1520778600-1520785800@stephentobolowsky.com
SUMMARY:New York: Temple Emanuel
DESCRIPTION:Jewish Book Council: A Celebration of Jewish Books —\nStory and Book Signing
URL:https://stephentobolowsky.com/event/new-york-temple-emanuel/
LOCATION:Streiker Center\, 1 East 65th Street\, New York\, NY\, United States
END:VEVENT
BEGIN:VEVENT
DTSTART;TZID=America/Los_Angeles:20180423T190000
DTEND;TZID=America/Los_Angeles:20180423T203000
DTSTAMP:20260420T010418
CREATED:20180404T145107Z
LAST-MODIFIED:20180404T150138Z
UID:1796-1524510000-1524515400@stephentobolowsky.com
SUMMARY:Chicago: Max and Benny's
DESCRIPTION:Stories and book signing.
URL:https://stephentobolowsky.com/event/chicago-max-and-bennys/
LOCATION:Max and Benny’s Restaurant\, Deli and Bakery\, 461 Waukegan Rd\, Northbrook\, IL\, 60062\, United States
END:VEVENT
BEGIN:VEVENT
DTSTART;TZID=America/Los_Angeles:20180424T114500
DTEND;TZID=America/Los_Angeles:20180424T133000
DTSTAMP:20260420T010418
CREATED:20180404T150034Z
LAST-MODIFIED:20180423T151124Z
UID:1799-1524570300-1524576600@stephentobolowsky.com
SUMMARY:Chicago: Standard Club Luncheon
DESCRIPTION:Luncheon\, stories and book signing.  Ticket price includes book!
URL:https://stephentobolowsky.com/event/chicago-standard-club-luncheon/
LOCATION:The Standard Club\, 320 South Plymouth Court Chicago\, IL 60604\, Chicago\, IL\, 60604\, United States
END:VEVENT
BEGIN:VEVENT
DTSTART;TZID=America/Los_Angeles:20180426T193000
DTEND;TZID=America/Los_Angeles:20180426T213000
DTSTAMP:20260420T010418
CREATED:20180404T150610Z
LAST-MODIFIED:20180404T150706Z
UID:1803-1524771000-1524778200@stephentobolowsky.com
SUMMARY:Portland: Powells Bookstore
DESCRIPTION:Stories\, Q&A\, and book signing.
URL:https://stephentobolowsky.com/event/portland-powells-bookstore/
LOCATION:Powell’s City of Books\, 1005 W. Burnside\, Portland\, OR\, 97209\, United States
END:VEVENT
BEGIN:VEVENT
DTSTART;VALUE=DATE:20180428
DTEND;VALUE=DATE:20180430
DTSTAMP:20260420T010418
CREATED:20180406T215239Z
LAST-MODIFIED:20180427T170412Z
UID:1809-1524873600-1525046399@stephentobolowsky.com
SUMMARY:Dallas\, TX: USA Film Festival Screening of "The Primary Instinct" and hosting Short Film Showcase
DESCRIPTION:SHORT FILM SHOWCASE – HOSTED BY STEPHEN TOBOLOWSKY\nSALUTE TO BARBARA BAIN / SALUTE TO ELIZABETH ASHLEY\nSaturday\, April 28 7:30pm \nScreening of THE PRIMARY INSTINCT\nSunday\, April 29 4:00pm\nQ&A following screening. \nSee Schedule for USA Film Festival here:\nhttp://www.usafilmfestival.com/images/48th.Annual.USA.Schedule.pdf
URL:https://stephentobolowsky.com/event/dallas-tx-usa-film-festival-screening-of-the-primary-instinct/
LOCATION:USA Film Festival\, Angelika Film Center\, 5321 E. Mockingbird Lane\, Dallas\, TX\, 75206\, United States
END:VEVENT
BEGIN:VEVENT
DTSTART;TZID=America/Los_Angeles:20180506T130000
DTEND;TZID=America/Los_Angeles:20180506T150000
DTSTAMP:20260420T010418
CREATED:20180311T191054Z
LAST-MODIFIED:20180404T145444Z
UID:1785-1525611600-1525618800@stephentobolowsky.com
SUMMARY:North Hollywood -- Word Theatre: Astronauts and Falling Stars
DESCRIPTION:
URL:https://stephentobolowsky.com/event/north-hollywood-word-theatre-astronauts-and-falling-stars/
LOCATION:Federal Bar\, 5303 Lankershim Boulevard\, North Hollywood\, CA\, United States
END:VEVENT
BEGIN:VEVENT
DTSTART;TZID=America/Los_Angeles:20180519T200000
DTEND;TZID=America/Los_Angeles:20180519T220000
DTSTAMP:20260420T010418
CREATED:20180311T192359Z
LAST-MODIFIED:20180517T135629Z
UID:1791-1526760000-1526767200@stephentobolowsky.com
SUMMARY:Los Angeles: Wendy Hammers' Tasty Words
DESCRIPTION:Tickets at tastywords.com \n“Mystics and Magic” \nWith stories from\nPeter Arpesella\nJenn Brown\nKathy Buckley\nStephen Tobolowsky\nPam Levin Winn\nJudy Carter \nDivine Tibetan Sound Bowls with Michael and Jahna \nand \nMagic to knock your socks off from Magic Castle\nMagician of the Year Andrew Goldenhersh \nAnd your Tasty Hostess Wendy Hammers
URL:https://stephentobolowsky.com/event/los-angeles-wendy-hammers-tasty-words/
LOCATION:Beverly Garland Hotel\, 4222 Vineland Ave\, North Hollywood\, CA\, 91602
END:VEVENT
BEGIN:VEVENT
DTSTART;TZID=America/Los_Angeles:20180603T160000
DTEND;TZID=America/Los_Angeles:20180603T183000
DTSTAMP:20260420T010418
CREATED:20180517T135119Z
LAST-MODIFIED:20180517T135715Z
UID:1823-1528041600-1528050600@stephentobolowsky.com
SUMMARY:Malibu\, CA: Ann Buxie's Tales by the Sea
DESCRIPTION:Tales By The Sea on Sunday\, June 3rd\, doors open 4pm\nMalibu West Swimming Club\, 30756 Pacific Coast Highway\, Malibu 90265\nPlease rsvp to ann.buxie1@verizon.net\nfeaturing music\, vegetarian and organic soups\,\nand personal stories\, for grown-ups. \nStories by: Stephen Tobolowsky\, Roxanne Reese\, Mike Lambert\, Betty Goldstein\, Antonio Sacre\, and music by Amy Engelhardt.
URL:https://stephentobolowsky.com/event/ann-buxies-tales-by-the-sea/
LOCATION:Malibu West Swimming Club\, 30756 Pacific Coast Highway\, Malibu\, 90265\, United States
END:VEVENT
BEGIN:VEVENT
DTSTART;VALUE=DATE:20190201
DTEND;VALUE=DATE:20190204
DTSTAMP:20260420T010418
CREATED:20181215T043437Z
LAST-MODIFIED:20181215T044014Z
UID:1838-1548979200-1549238399@stephentobolowsky.com
SUMMARY:Woodstock\, IL Ground Hog Day
DESCRIPTION:Ground Hog Day in Woodstock\, IL (location where movie was shot) \nPlease see link and check out various events — Ann and I’ll be attending for the first time in 15 years!
URL:https://stephentobolowsky.com/event/woodstock-il-ground-hog-day/
END:VEVENT
END:VCALENDAR