BEGIN:VCALENDAR
VERSION:2.0
PRODID:-//Stephen Tobolowsky - ECPv6.15.20//NONSGML v1.0//EN
CALSCALE:GREGORIAN
METHOD:PUBLISH
X-ORIGINAL-URL:https://stephentobolowsky.com
X-WR-CALDESC:Events for Stephen Tobolowsky
REFRESH-INTERVAL;VALUE=DURATION:PT1H
X-Robots-Tag:noindex
X-PUBLISHED-TTL:PT1H
BEGIN:VTIMEZONE
TZID:America/Los_Angeles
BEGIN:DAYLIGHT
TZOFFSETFROM:-0800
TZOFFSETTO:-0700
TZNAME:PDT
DTSTART:20160313T100000
END:DAYLIGHT
BEGIN:STANDARD
TZOFFSETFROM:-0700
TZOFFSETTO:-0800
TZNAME:PST
DTSTART:20161106T090000
END:STANDARD
BEGIN:DAYLIGHT
TZOFFSETFROM:-0800
TZOFFSETTO:-0700
TZNAME:PDT
DTSTART:20170312T100000
END:DAYLIGHT
BEGIN:STANDARD
TZOFFSETFROM:-0700
TZOFFSETTO:-0800
TZNAME:PST
DTSTART:20171105T090000
END:STANDARD
BEGIN:DAYLIGHT
TZOFFSETFROM:-0800
TZOFFSETTO:-0700
TZNAME:PDT
DTSTART:20180311T100000
END:DAYLIGHT
BEGIN:STANDARD
TZOFFSETFROM:-0700
TZOFFSETTO:-0800
TZNAME:PST
DTSTART:20181104T090000
END:STANDARD
END:VTIMEZONE
BEGIN:VEVENT
DTSTART;TZID=America/Los_Angeles:20171130T200000
DTEND;TZID=America/Los_Angeles:20171130T220000
DTSTAMP:20260419T232159
CREATED:20170924T153058Z
LAST-MODIFIED:20170924T153645Z
UID:1668-1512072000-1512079200@stephentobolowsky.com
SUMMARY:Vancouver\, British Columbia\, Canada: JCC Jewish Book Festival
DESCRIPTION:Stories from “My Adventures With God\,” Q&A and Book Signing. \nClosing night event of the Vancouver JCC Jewish Book Festial\nAdmission is charged for most events\, many events are free. Season passes and tickets are available at the JCC or online during the months of October and November.
URL:https://stephentobolowsky.com/event/vancouver-british-columbia-canada-jcc-jewish-book-festival/
END:VEVENT
END:VCALENDAR