BEGIN:VCALENDAR
VERSION:2.0
PRODID:-//Stephen Tobolowsky - ECPv6.15.20//NONSGML v1.0//EN
CALSCALE:GREGORIAN
METHOD:PUBLISH
X-ORIGINAL-URL:https://stephentobolowsky.com
X-WR-CALDESC:Events for Stephen Tobolowsky
REFRESH-INTERVAL;VALUE=DURATION:PT1H
X-Robots-Tag:noindex
X-PUBLISHED-TTL:PT1H
BEGIN:VTIMEZONE
TZID:America/Los_Angeles
BEGIN:DAYLIGHT
TZOFFSETFROM:-0800
TZOFFSETTO:-0700
TZNAME:PDT
DTSTART:20160313T100000
END:DAYLIGHT
BEGIN:STANDARD
TZOFFSETFROM:-0700
TZOFFSETTO:-0800
TZNAME:PST
DTSTART:20161106T090000
END:STANDARD
BEGIN:DAYLIGHT
TZOFFSETFROM:-0800
TZOFFSETTO:-0700
TZNAME:PDT
DTSTART:20170312T100000
END:DAYLIGHT
BEGIN:STANDARD
TZOFFSETFROM:-0700
TZOFFSETTO:-0800
TZNAME:PST
DTSTART:20171105T090000
END:STANDARD
BEGIN:DAYLIGHT
TZOFFSETFROM:-0800
TZOFFSETTO:-0700
TZNAME:PDT
DTSTART:20180311T100000
END:DAYLIGHT
BEGIN:STANDARD
TZOFFSETFROM:-0700
TZOFFSETTO:-0800
TZNAME:PST
DTSTART:20181104T090000
END:STANDARD
END:VTIMEZONE
BEGIN:VEVENT
DTSTART;TZID=America/Los_Angeles:20171028T200000
DTEND;TZID=America/Los_Angeles:20171028T213000
DTSTAMP:20260420T041716
CREATED:20170922T220340Z
LAST-MODIFIED:20170922T220340Z
UID:1623-1509220800-1509226200@stephentobolowsky.com
SUMMARY:Houston\, TX: Houston Jewish Book & Arts Fair
DESCRIPTION:Houston Jewish Book & Arts Fair\nStories from “My Adventures With God\,” Q&A and Book signing. \nDetails here.
URL:https://stephentobolowsky.com/event/houston-tx-houston-jewish-book-arts-fair/
LOCATION:Evelyn Rubenstein Jewish Community Center of Houston\, 5601 S. Braeswood\, Houston\, TX\, 77096
END:VEVENT
END:VCALENDAR