BEGIN:VCALENDAR
VERSION:2.0
PRODID:-//Stephen Tobolowsky - ECPv6.15.20//NONSGML v1.0//EN
CALSCALE:GREGORIAN
METHOD:PUBLISH
X-ORIGINAL-URL:https://stephentobolowsky.com
X-WR-CALDESC:Events for Stephen Tobolowsky
REFRESH-INTERVAL;VALUE=DURATION:PT1H
X-Robots-Tag:noindex
X-PUBLISHED-TTL:PT1H
BEGIN:VTIMEZONE
TZID:America/Los_Angeles
BEGIN:DAYLIGHT
TZOFFSETFROM:-0800
TZOFFSETTO:-0700
TZNAME:PDT
DTSTART:20160313T100000
END:DAYLIGHT
BEGIN:STANDARD
TZOFFSETFROM:-0700
TZOFFSETTO:-0800
TZNAME:PST
DTSTART:20161106T090000
END:STANDARD
BEGIN:DAYLIGHT
TZOFFSETFROM:-0800
TZOFFSETTO:-0700
TZNAME:PDT
DTSTART:20170312T100000
END:DAYLIGHT
BEGIN:STANDARD
TZOFFSETFROM:-0700
TZOFFSETTO:-0800
TZNAME:PST
DTSTART:20171105T090000
END:STANDARD
BEGIN:DAYLIGHT
TZOFFSETFROM:-0800
TZOFFSETTO:-0700
TZNAME:PDT
DTSTART:20180311T100000
END:DAYLIGHT
BEGIN:STANDARD
TZOFFSETFROM:-0700
TZOFFSETTO:-0800
TZNAME:PST
DTSTART:20181104T090000
END:STANDARD
END:VTIMEZONE
BEGIN:VEVENT
DTSTART;TZID=America/Los_Angeles:20171025T193000
DTEND;TZID=America/Los_Angeles:20171025T213000
DTSTAMP:20260420T041744
CREATED:20170922T181348Z
LAST-MODIFIED:20170923T225457Z
UID:1614-1508959800-1508967000@stephentobolowsky.com
SUMMARY:Miami\, FL
DESCRIPTION:Stories from “My Adventures With God\,” Q&A and Book Signing.\nMiami Alper JCC\,\nAlper JCC Berrin Family Jewish Book Festival at\nBet Shira Congregation\, 7500 SW 120th St.\, Pinecrest\, FL 33156\nContact: Marcy Levitt\nPhone: 305.271.9000 x268\nEmail: mlevitt@alperjcc.org
URL:https://stephentobolowsky.com/event/miami-fl/
LOCATION:Bet Shira Congregation\, 7500 SW 120th St.\, Pinecrest\, FL\, 33156
END:VEVENT
END:VCALENDAR