BEGIN:VCALENDAR
VERSION:2.0
PRODID:-//Stephen Tobolowsky - ECPv6.15.20//NONSGML v1.0//EN
CALSCALE:GREGORIAN
METHOD:PUBLISH
X-WR-CALNAME:Stephen Tobolowsky
X-ORIGINAL-URL:https://stephentobolowsky.com
X-WR-CALDESC:Events for Stephen Tobolowsky
REFRESH-INTERVAL;VALUE=DURATION:PT1H
X-Robots-Tag:noindex
X-PUBLISHED-TTL:PT1H
BEGIN:VTIMEZONE
TZID:America/Los_Angeles
BEGIN:DAYLIGHT
TZOFFSETFROM:-0800
TZOFFSETTO:-0700
TZNAME:PDT
DTSTART:20160313T100000
END:DAYLIGHT
BEGIN:STANDARD
TZOFFSETFROM:-0700
TZOFFSETTO:-0800
TZNAME:PST
DTSTART:20161106T090000
END:STANDARD
BEGIN:DAYLIGHT
TZOFFSETFROM:-0800
TZOFFSETTO:-0700
TZNAME:PDT
DTSTART:20170312T100000
END:DAYLIGHT
BEGIN:STANDARD
TZOFFSETFROM:-0700
TZOFFSETTO:-0800
TZNAME:PST
DTSTART:20171105T090000
END:STANDARD
BEGIN:DAYLIGHT
TZOFFSETFROM:-0800
TZOFFSETTO:-0700
TZNAME:PDT
DTSTART:20180311T100000
END:DAYLIGHT
BEGIN:STANDARD
TZOFFSETFROM:-0700
TZOFFSETTO:-0800
TZNAME:PST
DTSTART:20181104T090000
END:STANDARD
END:VTIMEZONE
BEGIN:VEVENT
DTSTART;TZID=America/Los_Angeles:20171024T190000
DTEND;TZID=America/Los_Angeles:20171024T210000
DTSTAMP:20260420T041614
CREATED:20170922T181151Z
LAST-MODIFIED:20171007T212828Z
UID:1612-1508871600-1508878800@stephentobolowsky.com
SUMMARY:St. Louis Book Fest\, St. Louis\, MO
DESCRIPTION:Stories from “My Adventures With God\,” Q&A\, Book Signing.
URL:https://stephentobolowsky.com/event/st-louis-book-fest-st-louis-mo/
LOCATION:Staenberg Family Complex\, 2 Millstone Campus Drive\, St. Louis\, MO\, 63146
END:VEVENT
END:VCALENDAR