BEGIN:VCALENDAR
VERSION:2.0
PRODID:-//Stephen Tobolowsky - ECPv6.15.20//NONSGML v1.0//EN
CALSCALE:GREGORIAN
METHOD:PUBLISH
X-ORIGINAL-URL:https://stephentobolowsky.com
X-WR-CALDESC:Events for Stephen Tobolowsky
REFRESH-INTERVAL;VALUE=DURATION:PT1H
X-Robots-Tag:noindex
X-PUBLISHED-TTL:PT1H
BEGIN:VTIMEZONE
TZID:America/Los_Angeles
BEGIN:DAYLIGHT
TZOFFSETFROM:-0800
TZOFFSETTO:-0700
TZNAME:PDT
DTSTART:20160313T100000
END:DAYLIGHT
BEGIN:STANDARD
TZOFFSETFROM:-0700
TZOFFSETTO:-0800
TZNAME:PST
DTSTART:20161106T090000
END:STANDARD
BEGIN:DAYLIGHT
TZOFFSETFROM:-0800
TZOFFSETTO:-0700
TZNAME:PDT
DTSTART:20170312T100000
END:DAYLIGHT
BEGIN:STANDARD
TZOFFSETFROM:-0700
TZOFFSETTO:-0800
TZNAME:PST
DTSTART:20171105T090000
END:STANDARD
BEGIN:DAYLIGHT
TZOFFSETFROM:-0800
TZOFFSETTO:-0700
TZNAME:PDT
DTSTART:20180311T100000
END:DAYLIGHT
BEGIN:STANDARD
TZOFFSETFROM:-0700
TZOFFSETTO:-0800
TZNAME:PST
DTSTART:20181104T090000
END:STANDARD
END:VTIMEZONE
BEGIN:VEVENT
DTSTART;TZID=America/Los_Angeles:20171023T190000
DTEND;TZID=America/Los_Angeles:20171023T210000
DTSTAMP:20260420T041745
CREATED:20170922T180932Z
LAST-MODIFIED:20170925T162629Z
UID:1609-1508785200-1508792400@stephentobolowsky.com
SUMMARY:Stories from "My Adventures With God\," Indianapolis\, IN
DESCRIPTION:Ann Katz Festival of Books at the Arthur M. Glick JCC\, 6701 Hoover Rd\, Indianapolis\, IN 46260
URL:https://stephentobolowsky.com/event/stories-from-my-adventures-with-god-indianapolis-in/
LOCATION:Arthur M. Glick JCC\, 6701 Hoover Rd\, Indianapolis\, Indiana\, 46260
END:VEVENT
END:VCALENDAR