BEGIN:VCALENDAR
VERSION:2.0
PRODID:-//Stephen Tobolowsky - ECPv6.15.20//NONSGML v1.0//EN
CALSCALE:GREGORIAN
METHOD:PUBLISH
X-WR-CALNAME:Stephen Tobolowsky
X-ORIGINAL-URL:https://stephentobolowsky.com
X-WR-CALDESC:Events for Stephen Tobolowsky
REFRESH-INTERVAL;VALUE=DURATION:PT1H
X-Robots-Tag:noindex
X-PUBLISHED-TTL:PT1H
BEGIN:VTIMEZONE
TZID:America/Los_Angeles
BEGIN:DAYLIGHT
TZOFFSETFROM:-0800
TZOFFSETTO:-0700
TZNAME:PDT
DTSTART:20160313T100000
END:DAYLIGHT
BEGIN:STANDARD
TZOFFSETFROM:-0700
TZOFFSETTO:-0800
TZNAME:PST
DTSTART:20161106T090000
END:STANDARD
BEGIN:DAYLIGHT
TZOFFSETFROM:-0800
TZOFFSETTO:-0700
TZNAME:PDT
DTSTART:20170312T100000
END:DAYLIGHT
BEGIN:STANDARD
TZOFFSETFROM:-0700
TZOFFSETTO:-0800
TZNAME:PST
DTSTART:20171105T090000
END:STANDARD
BEGIN:DAYLIGHT
TZOFFSETFROM:-0800
TZOFFSETTO:-0700
TZNAME:PDT
DTSTART:20180311T100000
END:DAYLIGHT
BEGIN:STANDARD
TZOFFSETFROM:-0700
TZOFFSETTO:-0800
TZNAME:PST
DTSTART:20181104T090000
END:STANDARD
END:VTIMEZONE
BEGIN:VEVENT
DTSTART;TZID=America/Los_Angeles:20170926T190000
DTEND;TZID=America/Los_Angeles:20170926T190000
DTSTAMP:20260420T041644
CREATED:20170917T195900Z
LAST-MODIFIED:20170917T195956Z
UID:1596-1506452400-1506452400@stephentobolowsky.com
SUMMARY:Dahl Arts Center\, Rapid City\, South Dakota
DESCRIPTION:An Evening with Stephen Tobolowsky — \nStories from My Adventures with God\, Q&A\, book signing. \nTickets here. \n 
URL:https://stephentobolowsky.com/event/dahl-arts-center-rapid-city-south-dakota/
LOCATION:Dahl Arts Center\, 713 7th Street\, Rapid City\, South Dakota\, 57701
END:VEVENT
END:VCALENDAR