BEGIN:VCALENDAR
VERSION:2.0
PRODID:-//Stephen Tobolowsky - ECPv6.15.20//NONSGML v1.0//EN
CALSCALE:GREGORIAN
METHOD:PUBLISH
X-WR-CALNAME:Stephen Tobolowsky
X-ORIGINAL-URL:https://stephentobolowsky.com
X-WR-CALDESC:Events for Stephen Tobolowsky
REFRESH-INTERVAL;VALUE=DURATION:PT1H
X-Robots-Tag:noindex
X-PUBLISHED-TTL:PT1H
BEGIN:VTIMEZONE
TZID:America/Los_Angeles
BEGIN:DAYLIGHT
TZOFFSETFROM:-0800
TZOFFSETTO:-0700
TZNAME:PDT
DTSTART:20160313T100000
END:DAYLIGHT
BEGIN:STANDARD
TZOFFSETFROM:-0700
TZOFFSETTO:-0800
TZNAME:PST
DTSTART:20161106T090000
END:STANDARD
BEGIN:DAYLIGHT
TZOFFSETFROM:-0800
TZOFFSETTO:-0700
TZNAME:PDT
DTSTART:20170312T100000
END:DAYLIGHT
BEGIN:STANDARD
TZOFFSETFROM:-0700
TZOFFSETTO:-0800
TZNAME:PST
DTSTART:20171105T090000
END:STANDARD
BEGIN:DAYLIGHT
TZOFFSETFROM:-0800
TZOFFSETTO:-0700
TZNAME:PDT
DTSTART:20180311T100000
END:DAYLIGHT
BEGIN:STANDARD
TZOFFSETFROM:-0700
TZOFFSETTO:-0800
TZNAME:PST
DTSTART:20181104T090000
END:STANDARD
END:VTIMEZONE
BEGIN:VEVENT
DTSTART;TZID=America/Los_Angeles:20170618T190000
DTEND;TZID=America/Los_Angeles:20170618T210000
DTSTAMP:20260420T105828
CREATED:20170512T191358Z
LAST-MODIFIED:20170512T191358Z
UID:1478-1497812400-1497819600@stephentobolowsky.com
SUMMARY:Theatre 40 Fundraiser: Stories from Stephen's Books and Book Signing
DESCRIPTION:All proceeds benefit for Theatre 40\, will be stories from my books (not presented in other Los Angeles area events) and a book signing following.  “My Adventures With God” hardbound copy included with cost of admission. \nPlease come support our beautiful theatre and hear some great stories and receive a book for yourself or a gift.
URL:https://stephentobolowsky.com/event/theatre-40-fundraiser-stories-from-stephens-books-and-book-signing/
LOCATION:Theatre 40\, 241 Moreno Drive\, Beverly Hills\, CA\, 90210\, United States
END:VEVENT
END:VCALENDAR