BEGIN:VCALENDAR
VERSION:2.0
PRODID:-//Stephen Tobolowsky - ECPv6.15.20//NONSGML v1.0//EN
CALSCALE:GREGORIAN
METHOD:PUBLISH
X-ORIGINAL-URL:https://stephentobolowsky.com
X-WR-CALDESC:Events for Stephen Tobolowsky
REFRESH-INTERVAL;VALUE=DURATION:PT1H
X-Robots-Tag:noindex
X-PUBLISHED-TTL:PT1H
BEGIN:VTIMEZONE
TZID:America/Los_Angeles
BEGIN:DAYLIGHT
TZOFFSETFROM:-0800
TZOFFSETTO:-0700
TZNAME:PDT
DTSTART:20160313T100000
END:DAYLIGHT
BEGIN:STANDARD
TZOFFSETFROM:-0700
TZOFFSETTO:-0800
TZNAME:PST
DTSTART:20161106T090000
END:STANDARD
BEGIN:DAYLIGHT
TZOFFSETFROM:-0800
TZOFFSETTO:-0700
TZNAME:PDT
DTSTART:20170312T100000
END:DAYLIGHT
BEGIN:STANDARD
TZOFFSETFROM:-0700
TZOFFSETTO:-0800
TZNAME:PST
DTSTART:20171105T090000
END:STANDARD
BEGIN:DAYLIGHT
TZOFFSETFROM:-0800
TZOFFSETTO:-0700
TZNAME:PDT
DTSTART:20180311T100000
END:DAYLIGHT
BEGIN:STANDARD
TZOFFSETFROM:-0700
TZOFFSETTO:-0800
TZNAME:PST
DTSTART:20181104T090000
END:STANDARD
END:VTIMEZONE
BEGIN:VEVENT
DTSTART;TZID=America/Los_Angeles:20170425T193000
DTEND;TZID=America/Los_Angeles:20170425T210000
DTSTAMP:20260420T143141
CREATED:20170307T175704Z
LAST-MODIFIED:20170323T235435Z
UID:1241-1493148600-1493154000@stephentobolowsky.com
SUMMARY:Town Hall Seattle - "My Adventures With God" book signing
DESCRIPTION:Location: 1119 8TH Ave.\, Seattle\, WA 98101\, Downstairs at Town Hall \n$30/admits one and $35/admits two. Both prices include a copy of the book.\nDoors open at 6:30PM.\n\nPlease see website below.
URL:https://stephentobolowsky.com/event/town-hall-seattle-my-adventures-with-god-book-signing/
LOCATION:Town Hall Seattle\, 1119 8th Ave.\, Seattle\, WA\, 98101\, United States
END:VEVENT
END:VCALENDAR